BEGIN:VCALENDAR
VERSION:2.0
PRODID:-//Ryan Heller - ECPv6.15.18//NONSGML v1.0//EN
CALSCALE:GREGORIAN
METHOD:PUBLISH
X-WR-CALNAME:Ryan Heller
X-ORIGINAL-URL:https://ryanheller.org
X-WR-CALDESC:Events for Ryan Heller
REFRESH-INTERVAL;VALUE=DURATION:PT1H
X-Robots-Tag:noindex
X-PUBLISHED-TTL:PT1H
BEGIN:VTIMEZONE
TZID:America/Chicago
BEGIN:DAYLIGHT
TZOFFSETFROM:-0600
TZOFFSETTO:-0500
TZNAME:CDT
DTSTART:20250309T080000
END:DAYLIGHT
BEGIN:STANDARD
TZOFFSETFROM:-0500
TZOFFSETTO:-0600
TZNAME:CST
DTSTART:20251102T070000
END:STANDARD
BEGIN:DAYLIGHT
TZOFFSETFROM:-0600
TZOFFSETTO:-0500
TZNAME:CDT
DTSTART:20260308T080000
END:DAYLIGHT
BEGIN:STANDARD
TZOFFSETFROM:-0500
TZOFFSETTO:-0600
TZNAME:CST
DTSTART:20261101T070000
END:STANDARD
BEGIN:DAYLIGHT
TZOFFSETFROM:-0600
TZOFFSETTO:-0500
TZNAME:CDT
DTSTART:20270314T080000
END:DAYLIGHT
BEGIN:STANDARD
TZOFFSETFROM:-0500
TZOFFSETTO:-0600
TZNAME:CST
DTSTART:20271107T070000
END:STANDARD
END:VTIMEZONE
BEGIN:VEVENT
DTSTART;TZID=America/Chicago:20260323T130000
DTEND;TZID=America/Chicago:20260323T150000
DTSTAMP:20260423T052702
CREATED:20260311T160944Z
LAST-MODIFIED:20260311T161156Z
UID:6147-1774270800-1774278000@ryanheller.org
SUMMARY:The Live Bold "Preach Better" Event March 23\, 2026 At Revolution Church Selma\, Texas
DESCRIPTION:Join us for a practical workshop built around Ryan Heller’s new book\, The Sermon Outline Blueprint\, a resource designed to help pastors and communicators strengthen the way they present God’s Word. \nThis session will walk through proven sermon frameworks that help turn strong biblical content into clear\, memorable messages that connect with people. You’ll learn practical ways to structure sermons that keep different learning styles engaged\, avoid the common trap of repeating the same outline every week\, and communicate Scripture with greater clarity and impact. \nWhether you’re a seasoned preacher or just beginning to develop your voice\, this workshop will give you practical tools you can immediately apply to your sermon preparation. Expect real examples\, honest conversation about common preaching pitfalls\, and encouragement to keep Christ at the center of every message. \nDetails\nFree Event\nDate: Monday\, March 23\nTime: 1:00 PM\nLocation: Revolution Church\n9360 Corporate Dr\nSelma\, TX 78154\nhttps://revyourlife.churchcenter.com/registrations/events/3518435
URL:https://ryanheller.org/event/the-live-bold-preach-better-event-march-23-2026/
END:VEVENT
END:VCALENDAR